BEGIN:VCALENDAR
VERSION:2.0
PRODID:-//AZTESOL - ECPv6.15.20//NONSGML v1.0//EN
CALSCALE:GREGORIAN
METHOD:PUBLISH
X-WR-CALNAME:AZTESOL
X-ORIGINAL-URL:https://aztesol.org
X-WR-CALDESC:Events for AZTESOL
REFRESH-INTERVAL;VALUE=DURATION:PT1H
X-Robots-Tag:noindex
X-PUBLISHED-TTL:PT1H
BEGIN:VTIMEZONE
TZID:America/Denver
BEGIN:DAYLIGHT
TZOFFSETFROM:-0700
TZOFFSETTO:-0600
TZNAME:MDT
DTSTART:20250309T090000
END:DAYLIGHT
BEGIN:STANDARD
TZOFFSETFROM:-0600
TZOFFSETTO:-0700
TZNAME:MST
DTSTART:20251102T080000
END:STANDARD
BEGIN:DAYLIGHT
TZOFFSETFROM:-0700
TZOFFSETTO:-0600
TZNAME:MDT
DTSTART:20260308T090000
END:DAYLIGHT
BEGIN:STANDARD
TZOFFSETFROM:-0600
TZOFFSETTO:-0700
TZNAME:MST
DTSTART:20261101T080000
END:STANDARD
BEGIN:DAYLIGHT
TZOFFSETFROM:-0700
TZOFFSETTO:-0600
TZNAME:MDT
DTSTART:20270314T090000
END:DAYLIGHT
BEGIN:STANDARD
TZOFFSETFROM:-0600
TZOFFSETTO:-0700
TZNAME:MST
DTSTART:20271107T080000
END:STANDARD
END:VTIMEZONE
BEGIN:VEVENT
DTSTART;TZID=America/Denver:20260520T163000
DTEND;TZID=America/Denver:20260520T173000
DTSTAMP:20260420T131253
CREATED:20260408T205702Z
LAST-MODIFIED:20260408T212011Z
UID:10000265-1779294600-1779298200@aztesol.org
SUMMARY:Empowering Multilingual Learners: What Trajectory-Changing Schools Teach Us About Belonging and Coherence
DESCRIPTION:  \nEvent: Empowering Multilingual Learners: What Trajectory-Changing Schools Teach Us About Belonging and Coherence\nType: Workshop  \nPresenter: Carmen OrozcoDate: Wednesday\, May 2o\, 2026Time: 4:30 PM – 5:30 PMLocation: Virtual (ZOOM link emailed upon registration) \n\nDescription:\nMost students who fall behind stay behind—but five percent of U.S. schools are changing that\, including multilingual learners. In The Opportunity\nMakers\, we studied seven trajectory-changing schools where students consistently gained more than a year of learning annually. These schools foster a deep sense of belonging\, build consistent instructional environments\, and design coherent learning experiences where students know what to expect and how to succeed. \n  \nWho Should Attend:K-12 Educators\, Administrators\, Instructional Coaches \n\nSession Highlights: \n\nExplores strategies to support multilingual students’ academic and language development\nHighlights identity-affirming practices and instructional alignment\nEmphasizes team-based student support systems\nEngages participants with key findings and reflection tools\nHelps educators identify ways to strengthen their own contexts\n\n\nTakeaways for Attendees: \n\nProvides actionable strategies and resources\nIncludes an Educator Toolkit and Action Guides\nSupports more connected and effective learning experiences\n\n\nAbout the Presenter: \n\nPlease register using the link below:\n\nhttps://docs.google.com/forms/d/e/1FAIpQLSfr-UtpIXJNWBiElthiClR96Ihr5vAp-8nGXZvhTv2Nyr13Kg/viewform\n\n\nOnce you complete the form\, you will receive a confirmation email with the Zoom link.\n\n AZTESOL – Arizona Teachers of English to Speakers of Other Languages\nConnecting and empowering English language educators across Arizona \nLearn more & connect with us:\n Member Site: https://aztesol.org\n LinkedIn: https://www.linkedin.com/in/aztesol-arizona-379831382/\n Facebook: https://www.facebook.com/aztesol2019\n Instagram: https://www.instagram.com/aztesol/\n YouTube: https://www.youtube.com/@aztesol \nIf you’re interested in offering a professional development workshop\, please complete the AZTESOL Professional Development Proposal Form \nFor questions or membership inquiries:\n secretaryaztesol@gmail.com \nWe appreciate your referrals and your support in building a strong\, vibrant community of English educators in Arizona!
URL:https://aztesol.org/event1/empowering-multilingual-learners-what-trajectory-changing-schools-teach-us-about-belonging-and-coherence/
LOCATION:AZTESOL
ATTACH;FMTTYPE=image/jpeg:https://aztesol.org/wp-content/uploads/2026/04/Carmen-Orozco.jpg
END:VEVENT
END:VCALENDAR